BEGIN:VCALENDAR
VERSION:2.0
METHOD:PUBLISH
BEGIN:VEVENT
UID:WILD_APRICOT_EVENT_3141829_SESSION_1
DTSTART:20181213T060000Z
DTEND:20181213T080000Z
SUMMARY:AIDN-WA Cyber Risk event for Defence
LOCATION:Jackovich Centre Henderson
DESCRIPTION:http://aidn-wa.org.au/event-3141829\n\nAIDN-WA are hosting a Cyber Security Risk for Defence Event at the Jackovich Centre\, Henderson. \n \n Learn techniques that you can apply to your business to limit the risk of financial loss\, disruption and damage that is caused daily by Cyber Crime.\n\n  \n Date: Thursday 13th December 2018\n Time: 1400 - 1600\n Venue: Jackovich Centre\, Henderson\n Cost: No Cost for AIDN-WA Members\n  $50.00 for Non Members\n \n Agenda Outline \n\n  1350: Registration\n 1400: AIDN-WA Welcome from President\, Kris Constantinides\n 1405: Peter Morris\, Australian Cyber Security Centre Presentation\n 1420: Michael Fairclough\, QuadIQ Presentation on Risk Exposure and Avoidance\n 1435: Mark Luckin\, Lockton Presentation from a Cyber Insurance Expert\n 1455: Tim Searle\, Partner at Clyde & Co Presentation\n 1510 – 1600: Networking\, drinks and finger food\n  If you wish to register please do so by Wednesday 12 December 2018.\n  AIDN-WA would like to thank QUAD IQ and LOCKTON for sponsoring this event.  \n  \\   \n           \n
DTSTAMP:20190228T125051Z
END:VEVENT
END:VCALENDAR
