BEGIN:VCALENDAR
VERSION:2.0
METHOD:PUBLISH
BEGIN:VEVENT
UID:WILD_APRICOT_EVENT_3086998_SESSION_1
DTSTART:20181022T053000Z
DTEND:20181022T073000Z
SUMMARY:Defence Logistics Tour at Palmer Barracks
LOCATION:Palmer Barracks\, Barker Rd\, South Guildford\, Building 64
DESCRIPTION:http://aidn-wa.org.au/event-3086998\n\nAIDN-WA Members are invited to attend a behind the scenes tour of the Defence Logistics Facilities at Palmer Barracks\, South Guildford.\n \n There will be a presentation to begin the afternoon\, followed by a guided walking tour of the Barracks then afternoon tea with Q&A time.\n  Date: Monday 22 October 2018\n Time: 1.30 pm - 3.30 pm\n Location: Palmer Barracks\, Barker Rd\, South Guildford\, WA 6055\n Cost: No Charge\n Dress Code: Closed Shoes must be worn\n  Numbers are limited so please register now to secure your place \n\n
DTSTAMP:20190228T125121Z
END:VEVENT
END:VCALENDAR
