BEGIN:VCALENDAR
VERSION:2.0
METHOD:PUBLISH
BEGIN:VEVENT
UID:WILD_APRICOT_EVENT_3065772_SESSION_1
DTSTART:20180917T070000Z
DTEND:20180917T090000Z
SUMMARY:WA Defence Strategy Update
LOCATION:South Metropolitan Tafe Munster Campus
DESCRIPTION:http://aidn-wa.org.au/event-3065772\n\nAIDN-WA\, in consultation with Major General Jeff Sengelman\, will be holding a WA Defence Strategy Update as a follow up session to the WA Defence Strategy discussion that took place at UWA last month.\n \n  MAJGEN Sengelman will give an update as to how the Strategy is evolving and invite discussion and questions from the audience.\n  Date: Monday 17 September 2018\n Time: 1500 - 1700\n Location: South Metropolitan TAFE\, Munster Campus\, Room AM101\n Address: 9 Gardiner Av\, Munster. Corner of Gardiner Av and Rockingham Rd. \n Cost: No Charge\n  Please register to confirm your attendance\n
DTSTAMP:20190228T125135Z
END:VEVENT
END:VCALENDAR
