BEGIN:VCALENDAR
VERSION:2.0
METHOD:PUBLISH
BEGIN:VEVENT
UID:WILD_APRICOT_EVENT_3056183_SESSION_1
DTSTART:20181205T100000Z
DTEND:20181205T130000Z
SUMMARY:AIDN-WA Christmas Function 2018
LOCATION:Bells Functions
DESCRIPTION:http://aidn-wa.org.au/event-3056183\n\nThe AIDN-WA Christmas function will be a relaxed event\, providing a great opportunity to network with your peers and celebrate the nearing end of 2018 \n  \n   Venue: Bells Functions\n  Upper Level Pier 3\, Barrack St Jetty\, Perth WA\n  Date: Wednesday 5 December 2018\n  Time: 1800 - 2100\n  Dress Code: Smart Casual\n   Cost: $20.00 p/p for AIDN-WA Members\n                                            $90.00 p/p for Non Members\n\n  There will be canapes and drinks served throughout the evening. \n  The SME Collaboration of the Year and the Young Achievers Awards will be announced during the night.\n  If you or your company would like to learn about the sponsorship opportunities please contact admin@aidn-wa.org.au\n \n If you have any dietary requirements please let admin know once you register.\n  \n\n  \n\n
DTSTAMP:20190228T125108Z
END:VEVENT
END:VCALENDAR
