BEGIN:VCALENDAR
VERSION:2.0
METHOD:PUBLISH
BEGIN:VEVENT
UID:WILD_APRICOT_EVENT_3032732_SESSION_1
DTSTART:20180913T080000Z
DTEND:20180913T093000Z
SUMMARY:AIDN-WA AGM 2018
LOCATION:Airflite Perth Airport
DESCRIPTION:http://aidn-wa.org.au/event-3032732\n\nJoin AIDN-WA at our Annual General Meeting\, hosted by Airflite.\n \n Date: Thursday 13 September 2018\n Time: 4.00 - 5.30 pm\n Location: Airflite\, 26 Newton Road\, Perth Airport\, WA \n  Note - Registration is only open to AIDN WA Members and limited seats are available.\n\n  For enquiries relating to the AGM\, please contact Krista Byrne\, admin@aidn-wa.org.au \n   \n  \n\n
DTSTAMP:20190228T125147Z
END:VEVENT
END:VCALENDAR
