BEGIN:VCALENDAR
VERSION:2.0
METHOD:PUBLISH
BEGIN:VEVENT
UID:WILD_APRICOT_EVENT_2989228_SESSION_1
DTSTART:20180717T060000Z
DTEND:20180717T080000Z
SUMMARY:Industry Consultation on the WA Defence Strategy
LOCATION:UWA
DESCRIPTION:http://aidn-wa.org.au/event-2989228\n\nAIDN-WA are hosting an Industry Consultation on the WA Defence Strategy at UWA. The exact location at UWA will be confirmed closer to the date of the event when approximate numbers on attendees are known.\n \n Former Major General Jeff Sengelman\, at the request of the State Government\, is creating the WA Defence Strategy and would like to engage industry in the discussions. Mr Sengelman will share his thoughts on the Strategy and a Q&A session will be facilitated to encourage audience participation and a sharing of ideas.\n  Following Mr Sengelman's talk you will hear from AIDN-WA's president\, Kris Constantinides who will give an overview of the proposed future of AIDN-WA and the Defence Advocacy in the State.\n  The Industry Consultation will be at no cost to participants.\n\n  Please only register if you are attending. If you do need to cancel your registration please let admin@aidn-wa.org.au know prior to the event.\n
DTSTAMP:20190228T125201Z
END:VEVENT
END:VCALENDAR
