BEGIN:VCALENDAR
VERSION:2.0
METHOD:PUBLISH
BEGIN:VEVENT
UID:WILD_APRICOT_EVENT_2937086_SESSION_1
DTSTART:20180607T010000Z
DTEND:20180607T093000Z
SUMMARY:The Immediate Challenge Series
LOCATION:Jakovich Centre\,  4 McGrath Rd\, Henderson WA 6166
DESCRIPTION:http://aidn-wa.org.au/event-2937086\n\nContracting directly with Defence is the domain of major primes. For the majority of West Australian industry\, its pipeline to Defence work is through major programs and major primes. While much of the focus in rightly spent on future work\, there are immediate requirements in local industry that can be addressed.\n  The small to medium enterprise (SMEs) have tremendous capability and innovative techniques for solving problems. In combination with each other\, and through collaboration\, the SMEs have the potential to solve the immediate challenges.\n  The AIDN-WA “Immediate Challenges Series” aims to bring these elements together. The primes experience the problems that the SME community has the potential to solve. The SME community can network with each other in the context of the challenges presented\, and in combination may able to grasp an opportunity that they couldn’t do alone.\n  Join us for an opportunity to apply your skills to current challenges in support of Defence:\n  Date: Thursday 7 June 2018\n Time: 0900 - 1730\n Location: Jakovich Centre\, Henderson WA\n Cost: Free for AIDN-WA Members\n          $50.00 for Non Members\n
DTSTAMP:20190228T125224Z
END:VEVENT
END:VCALENDAR
