BEGIN:VCALENDAR
VERSION:2.0
METHOD:PUBLISH
BEGIN:VEVENT
UID:WILD_APRICOT_EVENT_2924736_SESSION_1
DTSTART:20180622T100000Z
DTEND:20180622T130000Z
SUMMARY:AIDN-WA End Of Financial Year Function
LOCATION:Cygnet Room\, Optus Stadium
DESCRIPTION:http://aidn-wa.org.au/event-2924736\n\nThe AIDN-WA End of Financial Year (EOFY) Function will be held in the Cygnet Room at the World Class Optus Stadium.\n \n As the sun goes down the Stadium lights will go on giving attendees a full view of the stadium while they enjoy a range of Refreshments\, Canapes and hear from some of the Industry leaders.  Guest speakers include:\n Paul Papalia CSC MLA\, Minister for Defence Issues \n The Honourable David Johnston\, Australian Defence Export Advocate \n TBC - Defence\, CIVMEC\n \n AIDN-WA would like to thank Defence West for their Gold Level Sponsorship of the EOFY Function.\n \n  \n  The AIDN-WA EOFY Function will be a relaxed event\, providing a great opportunity to network with your peers.\n\n\n  \n
DTSTAMP:20190228T125212Z
END:VEVENT
END:VCALENDAR
