BEGIN:VCALENDAR
VERSION:2.0
METHOD:PUBLISH
BEGIN:VEVENT
UID:WILD_APRICOT_EVENT_2817635_SESSION_1
DTSTART:20180314T080000Z
DTEND:20180314T100000Z
SUMMARY:Town Hall Meeting
LOCATION:South Metropolitan TAFE\, ACEPT Campus
DESCRIPTION:http://aidn-wa.org.au/event-2817635\n\n\n  AIDN-WA will be facilitating a Town Hall Meeting to discuss the opportunities and threats for the sector in Western Australia\, and how AIDN-WA and other organisations can assist in address identified priorities.\n\n  This meeting will be highly participative\, so your input and suggestions will be welcomed and openly discussed.\n  Date: Wednesday 14 March 2018\n Time: 1600 - 1800\n Venue: South Metropolitan TAFE\, ACEPT Campus\n Address: 9 Gardiner Avenue\, Munster\nCost: Free for AIDN-WA members\n  Those that attend will also be offered a tour of ACEPT\, including the simulators and the live plant.\n\n  \n\n
DTSTAMP:20190228T125235Z
END:VEVENT
END:VCALENDAR
