BEGIN:VCALENDAR
VERSION:2.0
METHOD:PUBLISH
BEGIN:VEVENT
UID:WILD_APRICOT_EVENT_2673445_SESSION_1
DTSTART:20171020T080000Z
DTEND:20171020T093000Z
SUMMARY:Annual General Meeting
LOCATION:Raytheon Henderson
DESCRIPTION:http://aidn-wa.org.au/event-2673445\n\nJoin AIDN-WA at our Annual General Meeting\, hosted by Raytheon Australia.\n  Meeting to commence at 4pm on Friday 20 October 2017. \n  Note - Registration is only open to AIDN WA Members.\n  For enquiries relating to the AGM\, please contact Cheryl Ashboth\, Secretary\, AIDN-WA at secretary@aidn-wa.org.au \n   \n
DTSTAMP:20190228T125309Z
END:VEVENT
END:VCALENDAR
