BEGIN:VCALENDAR
VERSION:2.0
METHOD:PUBLISH
BEGIN:VEVENT
UID:WILD_APRICOT_EVENT_2621324_SESSION_1
DTSTART:20171023T090000Z
DTEND:20171023T110000Z
SUMMARY:Defence Innovation Forum
LOCATION:Chemistry Precinct/Curtin University Bentley
DESCRIPTION:http://aidn-wa.org.au/event-2621324\n\n\n Join us at our first Defence Innovation Forum.\n Over the course of an hour\, listen to three guest speakers talk about opportunities for WA industry to participate in research and development in support of Defence. There will also be 15 minutes of Q&A time with the speakers.\n \n  After the presentations\, please stay and enjoy refreshments and further opportunities to talk to industry R&D leaders.\n  MC - Tim Walton\, Curtin University of Technology\n  Guest speakers\nDefence Science and Technology Group - Dr David Gamble\nWatmarine Engineering – Simon Watson\nEdith Cowan University - Craig Valli\n  Where: Chemistry Precinct - Curtin University\n  Date: Monday\, 23 October 2017 at 5pm\n
DTSTAMP:20190228T125258Z
END:VEVENT
END:VCALENDAR
