BEGIN:VCALENDAR
VERSION:2.0
METHOD:PUBLISH
BEGIN:VEVENT
UID:WILD_APRICOT_EVENT_2612934_SESSION_1
DTSTART:20170831T004500Z
DTEND:20170831T030000Z
SUMMARY:Thales' Submarine Program Industry Engagement Seminar
LOCATION:AMC Jakovich Centre - Lake Coogee Room
DESCRIPTION:http://aidn-wa.org.au/event-2612934\n\n
DTSTAMP:20190228T125321Z
END:VEVENT
END:VCALENDAR
