BEGIN:VCALENDAR
VERSION:2.0
METHOD:PUBLISH
BEGIN:VEVENT
UID:WILD_APRICOT_EVENT_2604549_SESSION_1
DTSTART:20171210T160000Z
DTEND:20171211T160000Z
SUMMARY:AIDN-WA Christmas Function 2017
LOCATION:Bluewater Bar and Grill
DESCRIPTION:http://aidn-wa.org.au/event-2604549\n\nJoin Senator Linda Reynolds at the annual AIDN-WA Christmas Function. \n  \n   \n   Venue: The Bluewater Grill\n   58 Duncraig Road Applecross WA\n   Date: Monday 11 December \n   Time: 1800 - 2100\n   Dress Code: Smart Casual\n \n \n The AIDN-WA Christmas function will be a relaxed event\, providing a great opportunity to network with your peers and celebrate the nearing end of 2017.\n \n There will be canapes and drinks served throughout the evening. \n  The SME Collaboration of the Year and the Young Achievers Awards will be announced during the night.\n  If you or your company would like to learn about the sponsorship opportunities please contact admin@aidn-wa.org.au\n\n  Please book your ticket by Friday 1 December 2017.\n\n  We look forward to seeing you soon.\n
DTSTAMP:20190228T125246Z
END:VEVENT
END:VCALENDAR
