BEGIN:VCALENDAR
VERSION:2.0
METHOD:PUBLISH
BEGIN:VEVENT
UID:WILD_APRICOT_EVENT_2557968_SESSION_1
DTSTART:20170622T093000Z
DTEND:20170622T123000Z
SUMMARY:AIDN WA End of Financial Year Networking Function
LOCATION:The West Australia Club
DESCRIPTION:http://aidn-wa.org.au/event-2557968\n\n\n\n
DTSTAMP:20190228T125335Z
END:VEVENT
END:VCALENDAR
