BEGIN:VCALENDAR
VERSION:2.0
METHOD:PUBLISH
BEGIN:VEVENT
UID:WILD_APRICOT_EVENT_2458028_SESSION_1
DTSTART:20170228T093000Z
DTEND:20170228T133000Z
SUMMARY:Defence Industry Professional Networking Function
LOCATION:The Balmoral Hotel Beer Garden
DESCRIPTION:http://aidn-wa.org.au/event-2458028\n\n\n\n
DTSTAMP:20190228T125347Z
END:VEVENT
END:VCALENDAR
