BEGIN:VCALENDAR
VERSION:2.0
METHOD:PUBLISH
BEGIN:VEVENT
UID:WILD_APRICOT_EVENT_2365034_SESSION_1
DTSTART:20161206T093000Z
DTEND:20161206T123000Z
SUMMARY:AIDN WA 2016 Christmas Party
LOCATION:Acqua Viva on the Swan
DESCRIPTION:http://aidn-wa.org.au/event-2365034\n\n
DTSTAMP:20190228T125411Z
END:VEVENT
END:VCALENDAR
