BEGIN:VCALENDAR
VERSION:2.0
METHOD:PUBLISH
BEGIN:VEVENT
UID:WILD_APRICOT_EVENT_2316472_SESSION_1
DTSTART:20160908T093000Z
DTEND:20160908T113000Z
SUMMARY:AIDN Executive Committee Meeting
LOCATION:The Balmoral Hotel - Albany Hwy\, East Vic Park
DESCRIPTION:http://aidn-wa.org.au/event-2316472\n\nSerge has requested the next AIDN WA Executive Committee Meeting be held prior to the Women in Leadership event\, which AIDN WA is co-hosting with the Australian Institute of Management.\n  Agenda\, minutes\, etc will be distributed separately closer to the date.\n
DTSTAMP:20190228T125449Z
END:VEVENT
END:VCALENDAR
