BEGIN:VCALENDAR
VERSION:2.0
METHOD:PUBLISH
BEGIN:VEVENT
UID:WILD_APRICOT_EVENT_2293807_SESSION_1
DTSTART:20160725T094500Z
DTEND:20160725T113000Z
SUMMARY:Sundowner with the Minister for Defence Industry - Hon. Christopher Pyne
LOCATION:CCIWA\,  180 Hay Street\, East Perth\, WA 6004
DESCRIPTION:http://aidn-wa.org.au/event-2293807\n\nCCI invites you to join the Hon. Christopher Pyne MP and Senator Linda Reynolds CSC for informal drinks and networking.\n\n  This is an opportunity to hear from the newly appointed Minister for Defence Industry during his first visit to Western Australia in his new portfolio.\n   \n  Event details:\n  Date: Monday\, 25 July 2016 | Time: 5.45pm - 7.30pm\nVenue: The Chamber of Commerce and Industry of Western Australia\, \n 180 Hay Street\, East Perth\, WA 6004\n   \n  \n   \n
DTSTAMP:20190228T125500Z
END:VEVENT
END:VCALENDAR
