BEGIN:VCALENDAR
VERSION:2.0
METHOD:PUBLISH
BEGIN:VEVENT
UID:WILD_APRICOT_EVENT_2255352_SESSION_1
DTSTART:20160616T093000Z
DTEND:20160616T123000Z
SUMMARY:2016 End of Financial Year Function
LOCATION:The Western Australia Club
DESCRIPTION:http://aidn-wa.org.au/event-2255352\n\nDue to overwhelming response this event is now\n  SOLD OUT\n  Ticket sales have been closed.\n  \n\n
DTSTAMP:20190228T125511Z
END:VEVENT
END:VCALENDAR
